BEGIN:VCALENDAR
VERSION:2.0
PRODID:-//The City of Hammond, LA - ECPv6.15.17//NONSGML v1.0//EN
CALSCALE:GREGORIAN
METHOD:PUBLISH
X-WR-CALNAME:The City of Hammond, LA
X-ORIGINAL-URL:https://hammond.org
X-WR-CALDESC:Events for The City of Hammond, LA
REFRESH-INTERVAL;VALUE=DURATION:PT1H
X-Robots-Tag:noindex
X-PUBLISHED-TTL:PT1H
BEGIN:VTIMEZONE
TZID:America/Chicago
BEGIN:DAYLIGHT
TZOFFSETFROM:-0600
TZOFFSETTO:-0500
TZNAME:CDT
DTSTART:20230312T080000
END:DAYLIGHT
BEGIN:STANDARD
TZOFFSETFROM:-0500
TZOFFSETTO:-0600
TZNAME:CST
DTSTART:20231105T070000
END:STANDARD
BEGIN:DAYLIGHT
TZOFFSETFROM:-0600
TZOFFSETTO:-0500
TZNAME:CDT
DTSTART:20240310T080000
END:DAYLIGHT
BEGIN:STANDARD
TZOFFSETFROM:-0500
TZOFFSETTO:-0600
TZNAME:CST
DTSTART:20241103T070000
END:STANDARD
BEGIN:DAYLIGHT
TZOFFSETFROM:-0600
TZOFFSETTO:-0500
TZNAME:CDT
DTSTART:20250309T080000
END:DAYLIGHT
BEGIN:STANDARD
TZOFFSETFROM:-0500
TZOFFSETTO:-0600
TZNAME:CST
DTSTART:20251102T070000
END:STANDARD
END:VTIMEZONE
BEGIN:VEVENT
DTSTART;TZID=America/Chicago:20240213T073000
DTEND;TZID=America/Chicago:20240213T163000
DTSTAMP:20260420T075120
CREATED:20240123T170248Z
LAST-MODIFIED:20240123T170251Z
UID:12202-1707809400-1707841800@hammond.org
SUMMARY:Mardi Gras Holiday
DESCRIPTION:City of Hammond offices closed for the holiday.
URL:https://hammond.org/event/mardi-gras-holiday-5/
LOCATION:City Hall\, 310 E Charles St\, Hammond\, Louisiana\, 70401
END:VEVENT
END:VCALENDAR